BEGIN:VCALENDAR
VERSION:2.0
PRODID:-//Inspire Malta - ECPv6.15.19//NONSGML v1.0//EN
CALSCALE:GREGORIAN
METHOD:PUBLISH
X-ORIGINAL-URL:https://inspire.org.mt
X-WR-CALDESC:Events for Inspire Malta
REFRESH-INTERVAL;VALUE=DURATION:PT1H
X-Robots-Tag:noindex
X-PUBLISHED-TTL:PT1H
BEGIN:VTIMEZONE
TZID:Europe/Malta
BEGIN:DAYLIGHT
TZOFFSETFROM:+0100
TZOFFSETTO:+0200
TZNAME:CEST
DTSTART:20220327T010000
END:DAYLIGHT
BEGIN:STANDARD
TZOFFSETFROM:+0200
TZOFFSETTO:+0100
TZNAME:CET
DTSTART:20221030T010000
END:STANDARD
BEGIN:DAYLIGHT
TZOFFSETFROM:+0100
TZOFFSETTO:+0200
TZNAME:CEST
DTSTART:20230326T010000
END:DAYLIGHT
BEGIN:STANDARD
TZOFFSETFROM:+0200
TZOFFSETTO:+0100
TZNAME:CET
DTSTART:20231029T010000
END:STANDARD
BEGIN:DAYLIGHT
TZOFFSETFROM:+0100
TZOFFSETTO:+0200
TZNAME:CEST
DTSTART:20240331T010000
END:DAYLIGHT
BEGIN:STANDARD
TZOFFSETFROM:+0200
TZOFFSETTO:+0100
TZNAME:CET
DTSTART:20241027T010000
END:STANDARD
END:VTIMEZONE
BEGIN:VEVENT
DTSTART;TZID=Europe/Malta:20230525T080000
DTEND;TZID=Europe/Malta:20230525T170000
DTSTAMP:20260423T222602
CREATED:20230127T091426Z
LAST-MODIFIED:20240417T085313Z
UID:1157-1685001600-1685034000@inspire.org.mt
SUMMARY:Behaviours of Concern – Whose behaviour\, Whose Concern?
DESCRIPTION:Behaviours of concern (often referred to as challenging behaviour) represent a serious challenge to the quality of life\, equality\, and inclusion. There are many parallels with other countries\, particularly the UK and the USA\, in that individuals and families are frequently excluded from all forms of participation in their communities and often experience mental health treatments that are inappropriate and often harmful.  \nThey frequently endure severely restricted and traumatic lives\, on occasion sustaining severe injury or worse. This situation applies at home\, at school\, and across a range of health and social care settings. We argue that applying evidence-supported\, trauma-informed and empathic approaches\, that reflect more up-to-date theory\, reduces stress in workers and greatly improves well-being. We have evidence of this\, which will be presented at the event.  \n\n												\n							\n														\n							\n														\n							\n														\n							\n														\n							\n														\n							\n														\n							\n														\n							\n														\n							\n														\n							\n														\n							\n														\n							\n														 \nAgenda\n\n\n\nTime\nRegistration\n\n\n\n9:00 am – 9:15 am\nOpening Keynotes\nMr Antonello Gauci – CEO of Inspire Foundation; Hon. Julia Ferrugia Portelli – Minister for Inclusion\, Voluntary Organisations and Consumer Rights; Prof. Richard Mills – Associate Consultant\, Chairperson of the Research & Innovation Committee of Inspire\n\n\n9:15 am – 10:00 am\nDr. Bernadette Grosjean\nBehaviours’ do not define us but\, if you know how to listen\, they can tell you who we are.\n\n\n10:00 am – 10:45 am\nCharlene Borg\, + Olga & Neville Cassar Bonavia\nA Narrative of Wellbeing – Why hope matters.\n\n\n10:45 am – 11:15 am\nCoffee Break\n\n\n\n11:15 am – 12:00 pm\nProf. Richard Mills\, Dr. Ruth Moyse & Dr. Georgia Pavlopoulou\nChanging frames – changing stories – changing outcomes – the role of emotions and perception in our understanding and responding to behaviours of concern\n\n\n12:00 pm – 12:10 pm\nComfort break\nShort Break.\n\n\n12:15 pm – 12:45 pm\nAlexis Quinn\nUnderstanding and responding to behaviours of concern. Personal reflections.\n\n\n12:45 pm – 1:15 pm\nNicci Paine\nSensory Processing – Highlighting the importance of awareness and the provision of support strategies to promote quality of life and wellbeing.\n\n\n1:15 pm – 2:15 pm\nLunch Break\n\n\n\n2:15 pm – 2:45 pm\nDr. Elena Giouroukou\nThe Synergy programme in elementary school: enhancing teachers’ skills to support autistic students with behaviours of concern.\n\n\n2:45 pm – 3:30 pm\nProf. George Bagakis and Dr Thanos Koulis\nSupport of teachers in classes with students of behaviors of concern. The independent evaluation of the Programme Synergy of Laskaridis Foundation.\n\n\n3:30 pm – 3:40 pm\nComfort break\nShort Break.\n\n\n3:40 pm – 4:10 pm\nDr. Ian Davidson\nMoving from concern to success – can we do it?\n\n\n4:10 pm – 4:55 pm\nOpen to all speakers\nPanel Questions.\n\n\n4:55 pm – 5:00 pm\nClosure\n\n\n\n\n			\n						Download Conference Programme\n					 \nSponsors
URL:https://inspire.org.mt/event/behaviours-of-concern/
LOCATION:Malta Fairs & Conventions Centre\, Ta' Qali\, Attard\, Malta
ATTACH;FMTTYPE=image/png:https://inspire.org.mt/wp-content/uploads/2024/04/Conference-Banner-1200-×-200-px-3-1.png
ORGANIZER;CN="Inspire Foundation":MAILTO:communications@inspire.org.mt
END:VEVENT
END:VCALENDAR